BEGIN:VCALENDAR
VERSION:2.0
PRODID:-//Your Company//Your Product//EN
BEGIN:VEVENT
UID:event-5870@yourdomain.com
DTSTAMP:20260421T093647Z
DTSTART:20250707T040000Z
DTEND:20250712T035900Z
SUMMARY:Summer Break &#8211; Chapter Closed
DESCRIPTION:The Chapter will be closed for Summer Break
LOCATION:No location specified
URL:https://aianova.org/event/summer-break-chapter-closed/
END:VEVENT
END:VCALENDAR