BEGIN:VCALENDAR
VERSION:2.0
PRODID:-//Your Company//Your Product//EN
BEGIN:VEVENT
UID:event-7459@yourdomain.com
DTSTAMP:20260421T081904Z
DTSTART:20260418T174500Z
DTEND:20260418T200000Z
SUMMARY:Sketching Workshop &amp; Alexandria Historic Architecture Walking Tour - REGISTRATION REQUIRED
DESCRIPTION:Join us for a sketch and walking tour of four historic sites through Old Town Alexandria. 
LOCATION:Gadsby's Tavern, North Royal Street, Alexandria, VA, USA
URL:https://aianova.org/event/sketching-workshop-alexandria-walking-tour-3/
END:VEVENT
END:VCALENDAR