BEGIN:VCALENDAR
VERSION:2.0
PRODID:-//Your Company//Your Product//EN
BEGIN:VEVENT
UID:event-3454@yourdomain.com
DTSTAMP:20260421T081744Z
DTSTART:20240828T160000Z
DTEND:20240828T170000Z
SUMMARY:Schools Connections Committee Meeting
DESCRIPTION:Join the SCC virtually over lunch for their monthly planning meeting.
LOCATION:No location specified
URL:https://aianova.org/event/schools-connections-committee-meeting-5/
END:VEVENT
END:VCALENDAR