BEGIN:VCALENDAR
VERSION:2.0
PRODID:-//Your Company//Your Product//EN
BEGIN:VEVENT
UID:event-7218@yourdomain.com
DTSTAMP:20260425T023138Z
DTSTART:20260623T210000Z
DTEND:20260623T220000Z
SUMMARY:LGBTQIA+ Alliance Meeting - REGISTRATION REQUIRED
DESCRIPTION:Join the LGBTQIA+ Alliance for their monthly committee meeting
LOCATION:No location specified
URL:https://aianova.org/event/lgbtqia-alliance-meeting-19/
END:VEVENT
END:VCALENDAR