BEGIN:VCALENDAR
VERSION:2.0
PRODID:-//Your Company//Your Product//EN
BEGIN:VEVENT
UID:event-6242@yourdomain.com
DTSTAMP:20260420T102053Z
DTSTART:20250821T220000Z
DTEND:20250822T000000Z
SUMMARY:Golden Hour: Networking After Hours
DESCRIPTION:Dress in your finest golds and whites and join us at AJ Madison's DC Showroom for cocktails\, conversation\, and community.
LOCATION:8500 Leesburg Pike #101, Tysons Corner, VA, USA
URL:https://aianova.org/event/golden-hour-networking-after-hours/
END:VEVENT
END:VCALENDAR