BEGIN:VCALENDAR
VERSION:2.0
PRODID:-//Your Company//Your Product//EN
BEGIN:VEVENT
UID:event-6816@yourdomain.com
DTSTAMP:20260420T102226Z
DTSTART:20251112T233000Z
DTEND:20251113T013000Z
SUMMARY:Dinner with an Architect: Bill Stevens, AIA
DESCRIPTION:Join  us for dinner with a side of professional development and career insights with Bill Stevens\, AIA. 
LOCATION:4001 Fairfax Dr, Arlington, VA 22203, USA
URL:https://aianova.org/event/dinner-with-an-architect-bill-stevens-aia/
END:VEVENT
END:VCALENDAR