BEGIN:VCALENDAR
VERSION:2.0
PRODID:-//Your Company//Your Product//EN
BEGIN:VEVENT
UID:event-7592@yourdomain.com
DTSTAMP:20260425T023147Z
DTSTART:20260505T220000Z
DTEND:20260506T000000Z
SUMMARY:*REGISTER NOW*                                                 AIA NoVA Spring Social - REGISTRATION REQUIRED
DESCRIPTION:Come celebrate Cinco de Mayo at AIA Northern Virginia’s annual Spring Social!
LOCATION:Cosentino City Washington DC, 2100 L St NW suite 100, Washington, DC 20037, USA
URL:https://aianova.org/event/aia-northern-virginia-spring-social/
END:VEVENT
END:VCALENDAR